BEGIN:VCALENDAR
VERSION:2.0
PRODID:-//Squarespace Inc/Squarespace 6//v6//EN
BEGIN:VEVENT
UID:5ef038171f1bd30702c28bda@squarespace.com
DTSTAMP:20200622T044927Z
DTSTART:20200712T020000Z
DTEND:20200712T040000Z
SUMMARY:Lotus Eco Village Owners Group Meeting
END:VEVENT
END:VCALENDAR
