BEGIN:VCALENDAR
VERSION:2.0
PRODID:-//Squarespace Inc/Squarespace 6//v6//EN
BEGIN:VEVENT
UID:5f569e3b7d267772ff92ba5f@squarespace.com
DTSTAMP:20200907T205633Z
DTSTART:20201011T010000Z
DTEND:20201011T030000Z
SUMMARY:Lotus Eco Village Owners Group Meeting
END:VEVENT
END:VCALENDAR
