BEGIN:VCALENDAR
VERSION:2.0
PRODID:-//Squarespace Inc/Squarespace 6//v6//EN
BEGIN:VEVENT
UID:5d68596859d7fb0001e97d45@squarespace.com
DTSTAMP:20190829T230408Z
DTSTART:20190929T010000Z
DTEND:20190929T030000Z
SUMMARY:Lotus Eco Village Owners Group Meeting
END:VEVENT
END:VCALENDAR
