BEGIN:VCALENDAR
VERSION:2.0
PRODID:-//Squarespace Inc/Squarespace 6//v6//EN
BEGIN:VEVENT
UID:5c438a39b914435393a7be49@squarespace.com
DTSTAMP:20190120T214628Z
DTSTART:20190210T020000Z
DTEND:20190210T040000Z
SUMMARY:Information Afternoon
END:VEVENT
END:VCALENDAR
