BEGIN:VCALENDAR
VERSION:2.0
PRODID:-//Squarespace Inc/Squarespace 6//v6//EN
BEGIN:VEVENT
UID:5c44ec3ecd83663a0957204a@squarespace.com
DTSTAMP:20190120T214718Z
DTSTART:20190217T020000Z
DTEND:20190217T040000Z
SUMMARY:Information Afternoon
END:VEVENT
END:VCALENDAR
