BEGIN:VCALENDAR
VERSION:2.0
PRODID:-//Squarespace Inc/Squarespace 6//v6//EN
BEGIN:VEVENT
UID:5c44ec6b898583fc9a89a640@squarespace.com
DTSTAMP:20190120T214742Z
DTSTART:20190303T020000Z
DTEND:20190303T040000Z
SUMMARY:Information Afternoon
END:VEVENT
END:VCALENDAR
