BEGIN:VCALENDAR
VERSION:2.0
PRODID:-//Squarespace Inc/Squarespace 6//v6//EN
BEGIN:VEVENT
UID:5d965ca0fcd95e4ff56f511f@squarespace.com
DTSTAMP:20191003T204100Z
DTSTART:20191208T013000Z
DTEND:20191208T030000Z
SUMMARY:Lotus Eco Village Owners Group Meeting
END:VEVENT
END:VCALENDAR
